BEGIN:VCALENDAR
VERSION:2.0
PRODID:-//Montignargues - ECPv4.9.8//NONSGML v1.0//EN
CALSCALE:GREGORIAN
METHOD:PUBLISH
X-WR-CALNAME:Montignargues
X-ORIGINAL-URL:https://www.montignargues.fr
X-WR-CALDESC:Évènements pour Montignargues
BEGIN:VTIMEZONE
TZID:Europe/Paris
BEGIN:DAYLIGHT
TZOFFSETFROM:+0100
TZOFFSETTO:+0200
TZNAME:CEST
DTSTART:20250330T010000
END:DAYLIGHT
BEGIN:STANDARD
TZOFFSETFROM:+0200
TZOFFSETTO:+0100
TZNAME:CET
DTSTART:20251026T010000
END:STANDARD
END:VTIMEZONE
BEGIN:VEVENT
DTSTART;VALUE=DATE:20251111
DTEND;VALUE=DATE:20251112
DTSTAMP:20260420T103521
CREATED:20251106T144613Z
LAST-MODIFIED:20251106T144613Z
UID:1642-1762819200-1762905599@www.montignargues.fr
SUMMARY:Journée de Commémoration – 11 Novembre 2025
DESCRIPTION:Montignargues – 11h00 au cimetière\n\nLa commune de Montignargues organise sa cérémonie du 11 Novembre en hommage aux Morts pour la France.\nLe rassemblement se tiendra à 11h au cimetière\, suivi du dépôt de gerbe au monument aux morts.\n\nÀ l’issue de la cérémonie\, un moment convivial sera proposé aux participants.\n\n 
URL:https://www.montignargues.fr/event/journee-de-commemoration-11-novembre-2025/
LOCATION:Cimetière\, 30190 Montignargues\, Montignargues\, 30190\, France
ATTACH;FMTTYPE=image/jpeg:https://www.montignargues.fr/wp-content/uploads/sites/5/2025/11/Affichage-11-Novembre-Panneau-LED.jpg
END:VEVENT
END:VCALENDAR